BEGIN:VCALENDAR
VERSION:2.0
PRODID:-//U.S. Renal Link - ECPv6.15.13//NONSGML v1.0//EN
CALSCALE:GREGORIAN
METHOD:PUBLISH
X-WR-CALNAME:U.S. Renal Link
X-ORIGINAL-URL:https://usrenalink.com
X-WR-CALDESC:Events for U.S. Renal Link
REFRESH-INTERVAL;VALUE=DURATION:PT1H
X-Robots-Tag:noindex
X-PUBLISHED-TTL:PT1H
BEGIN:VTIMEZONE
TZID:America/Chicago
BEGIN:DAYLIGHT
TZOFFSETFROM:-0600
TZOFFSETTO:-0500
TZNAME:CDT
DTSTART:20230312T080000
END:DAYLIGHT
BEGIN:STANDARD
TZOFFSETFROM:-0500
TZOFFSETTO:-0600
TZNAME:CST
DTSTART:20231105T070000
END:STANDARD
BEGIN:DAYLIGHT
TZOFFSETFROM:-0600
TZOFFSETTO:-0500
TZNAME:CDT
DTSTART:20240310T080000
END:DAYLIGHT
BEGIN:STANDARD
TZOFFSETFROM:-0500
TZOFFSETTO:-0600
TZNAME:CST
DTSTART:20241103T070000
END:STANDARD
BEGIN:DAYLIGHT
TZOFFSETFROM:-0600
TZOFFSETTO:-0500
TZNAME:CDT
DTSTART:20250309T080000
END:DAYLIGHT
BEGIN:STANDARD
TZOFFSETFROM:-0500
TZOFFSETTO:-0600
TZNAME:CST
DTSTART:20251102T070000
END:STANDARD
END:VTIMEZONE
BEGIN:VEVENT
DTSTART;VALUE=DATE:20241023
DTEND;VALUE=DATE:20241028
DTSTAMP:20260425T121349
CREATED:20231206T165423Z
LAST-MODIFIED:20240917T155800Z
UID:1900-1729641600-1730073599@usrenalink.com
SUMMARY:ASN Kidney Week
DESCRIPTION:We look forward to meeting you in sunny San Diego! Please email us to receive info about special events during ASN\, or schedule a meeting on-site to discuss open job opportunities and meet with hiring nephrology practices! Visit the USRC team at Booth# 803 in the Exhibit hall.
URL:https://usrenalink.com/event/asn-kidney-week/
LOCATION:San Diego Convention Center\, 111 W Harbor Dr\, San Diego\, CA\, 92101\, United States
ATTACH;FMTTYPE=image/png:https://usrl.imgix.net/wp-content/uploads/2023/12/06105416/asnlogo.png
END:VEVENT
END:VCALENDAR