BEGIN:VCALENDAR
VERSION:2.0
PRODID:-//U.S. Renal Link - ECPv6.15.13//NONSGML v1.0//EN
CALSCALE:GREGORIAN
METHOD:PUBLISH
X-WR-CALNAME:U.S. Renal Link
X-ORIGINAL-URL:https://usrenalink.com
X-WR-CALDESC:Events for U.S. Renal Link
REFRESH-INTERVAL;VALUE=DURATION:PT1H
X-Robots-Tag:noindex
X-PUBLISHED-TTL:PT1H
BEGIN:VTIMEZONE
TZID:America/Chicago
BEGIN:DAYLIGHT
TZOFFSETFROM:-0600
TZOFFSETTO:-0500
TZNAME:CDT
DTSTART:20240310T080000
END:DAYLIGHT
BEGIN:STANDARD
TZOFFSETFROM:-0500
TZOFFSETTO:-0600
TZNAME:CST
DTSTART:20241103T070000
END:STANDARD
BEGIN:DAYLIGHT
TZOFFSETFROM:-0600
TZOFFSETTO:-0500
TZNAME:CDT
DTSTART:20250309T080000
END:DAYLIGHT
BEGIN:STANDARD
TZOFFSETFROM:-0500
TZOFFSETTO:-0600
TZNAME:CST
DTSTART:20251102T070000
END:STANDARD
BEGIN:DAYLIGHT
TZOFFSETFROM:-0600
TZOFFSETTO:-0500
TZNAME:CDT
DTSTART:20260308T080000
END:DAYLIGHT
BEGIN:STANDARD
TZOFFSETFROM:-0500
TZOFFSETTO:-0600
TZNAME:CST
DTSTART:20261101T070000
END:STANDARD
END:VTIMEZONE
BEGIN:VEVENT
DTSTART;VALUE=DATE:20250409
DTEND;VALUE=DATE:20250414
DTSTAMP:20260425T053844
CREATED:20241211T023005Z
LAST-MODIFIED:20241211T023005Z
UID:2461-1744156800-1744588799@usrenalink.com
SUMMARY:NKF Spring Clinical Meetings
DESCRIPTION:The Spring Clinical Meetings (SCM) is NKF’s premiere educational event designed for the interprofessional kidney health team. SCM presents a unique opportunity for busy renal health care professionals to explore innovation\, research\, and best clinical practice within nephrology.
URL:https://usrenalink.com/event/nkf-spring-clinical-meetings-2/
LOCATION:The John B. Hynes Veterans Memorial Convention Center\, 900 Boylston St\, Boston\, MA\, 02115
ATTACH;FMTTYPE=image/png:https://usrl.imgix.net/wp-content/uploads/2024/12/10202956/SCM2025.png
END:VEVENT
END:VCALENDAR